BEGIN:VCALENDAR
VERSION:2.0
PRODID:-//City of Ardmore - ECPv6.15.20//NONSGML v1.0//EN
CALSCALE:GREGORIAN
METHOD:PUBLISH
X-WR-CALNAME:City of Ardmore
X-ORIGINAL-URL:https://cityofardmoretn.com
X-WR-CALDESC:Events for City of Ardmore
REFRESH-INTERVAL;VALUE=DURATION:PT1H
X-Robots-Tag:noindex
X-PUBLISHED-TTL:PT1H
BEGIN:VTIMEZONE
TZID:UTC
BEGIN:STANDARD
TZOFFSETFROM:+0000
TZOFFSETTO:+0000
TZNAME:UTC
DTSTART:20220101T000000
END:STANDARD
END:VTIMEZONE
BEGIN:VEVENT
DTSTART;VALUE=DATE:20231202
DTEND;VALUE=DATE:20231203
DTSTAMP:20260422T080708
CREATED:20231031T204422Z
LAST-MODIFIED:20231031T204422Z
UID:10000003-1701475200-1701561599@cityofardmoretn.com
SUMMARY:Lynnville Christmas Parade
DESCRIPTION:Lynnville Christmas Parade
URL:https://cityofardmoretn.com/events2/lynnville-christmas-parade/
LOCATION:Lynnville
ATTACH;FMTTYPE=image/jpeg:https://cityofardmoretn.com/wp-content/uploads/2023/10/ef3-placeholder-image.jpg
END:VEVENT
END:VCALENDAR