BEGIN:VCALENDAR
VERSION:2.0
PRODID:-//City of Ardmore - ECPv6.15.20//NONSGML v1.0//EN
CALSCALE:GREGORIAN
METHOD:PUBLISH
X-ORIGINAL-URL:https://cityofardmoretn.com
X-WR-CALDESC:Events for City of Ardmore
REFRESH-INTERVAL;VALUE=DURATION:PT1H
X-Robots-Tag:noindex
X-PUBLISHED-TTL:PT1H
BEGIN:VTIMEZONE
TZID:America/New_York
BEGIN:DAYLIGHT
TZOFFSETFROM:-0500
TZOFFSETTO:-0400
TZNAME:EDT
DTSTART:20270314T070000
END:DAYLIGHT
BEGIN:STANDARD
TZOFFSETFROM:-0400
TZOFFSETTO:-0500
TZNAME:EST
DTSTART:20271107T060000
END:STANDARD
BEGIN:DAYLIGHT
TZOFFSETFROM:-0500
TZOFFSETTO:-0400
TZNAME:EDT
DTSTART:20280312T070000
END:DAYLIGHT
BEGIN:STANDARD
TZOFFSETFROM:-0400
TZOFFSETTO:-0500
TZNAME:EST
DTSTART:20281105T060000
END:STANDARD
BEGIN:DAYLIGHT
TZOFFSETFROM:-0500
TZOFFSETTO:-0400
TZNAME:EDT
DTSTART:20290311T070000
END:DAYLIGHT
BEGIN:STANDARD
TZOFFSETFROM:-0400
TZOFFSETTO:-0500
TZNAME:EST
DTSTART:20291104T060000
END:STANDARD
BEGIN:DAYLIGHT
TZOFFSETFROM:-0500
TZOFFSETTO:-0400
TZNAME:EDT
DTSTART:20300310T070000
END:DAYLIGHT
BEGIN:STANDARD
TZOFFSETFROM:-0400
TZOFFSETTO:-0500
TZNAME:EST
DTSTART:20301103T060000
END:STANDARD
BEGIN:DAYLIGHT
TZOFFSETFROM:-0500
TZOFFSETTO:-0400
TZNAME:EDT
DTSTART:20310309T070000
END:DAYLIGHT
BEGIN:STANDARD
TZOFFSETFROM:-0400
TZOFFSETTO:-0500
TZNAME:EST
DTSTART:20311102T060000
END:STANDARD
END:VTIMEZONE
BEGIN:VEVENT
DTSTART;TZID=America/New_York:20280706T183000
DTEND;TZID=America/New_York:20280706T200000
DTSTAMP:20260422T182113
CREATED:20250109T190302Z
LAST-MODIFIED:20250109T190618Z
UID:10000395-1846521000-1846526400@cityofardmoretn.com
SUMMARY:City of Ardmore Board Meeting
DESCRIPTION:City of Ardmore Board Meeting \n6:30 pm \nCity Hall Chambers
URL:https://cityofardmoretn.com/events2/city-of-ardmore-board-meeting-3/2028-07-06/
END:VEVENT
BEGIN:VEVENT
DTSTART;TZID=America/New_York:20280803T183000
DTEND;TZID=America/New_York:20280803T200000
DTSTAMP:20260422T182113
CREATED:20250109T190302Z
LAST-MODIFIED:20250109T190618Z
UID:10000396-1848940200-1848945600@cityofardmoretn.com
SUMMARY:City of Ardmore Board Meeting
DESCRIPTION:City of Ardmore Board Meeting \n6:30 pm \nCity Hall Chambers
URL:https://cityofardmoretn.com/events2/city-of-ardmore-board-meeting-3/2028-08-03/
END:VEVENT
BEGIN:VEVENT
DTSTART;TZID=America/New_York:20280907T183000
DTEND;TZID=America/New_York:20280907T200000
DTSTAMP:20260422T182113
CREATED:20250109T190302Z
LAST-MODIFIED:20250109T190618Z
UID:10000397-1851964200-1851969600@cityofardmoretn.com
SUMMARY:City of Ardmore Board Meeting
DESCRIPTION:City of Ardmore Board Meeting \n6:30 pm \nCity Hall Chambers
URL:https://cityofardmoretn.com/events2/city-of-ardmore-board-meeting-3/2028-09-07/
END:VEVENT
BEGIN:VEVENT
DTSTART;TZID=America/New_York:20281005T183000
DTEND;TZID=America/New_York:20281005T200000
DTSTAMP:20260422T182113
CREATED:20250109T190302Z
LAST-MODIFIED:20250109T190618Z
UID:10000398-1854383400-1854388800@cityofardmoretn.com
SUMMARY:City of Ardmore Board Meeting
DESCRIPTION:City of Ardmore Board Meeting \n6:30 pm \nCity Hall Chambers
URL:https://cityofardmoretn.com/events2/city-of-ardmore-board-meeting-3/2028-10-05/
END:VEVENT
BEGIN:VEVENT
DTSTART;TZID=America/New_York:20281102T183000
DTEND;TZID=America/New_York:20281102T200000
DTSTAMP:20260422T182113
CREATED:20250109T190302Z
LAST-MODIFIED:20250109T190618Z
UID:10000399-1856802600-1856808000@cityofardmoretn.com
SUMMARY:City of Ardmore Board Meeting
DESCRIPTION:City of Ardmore Board Meeting \n6:30 pm \nCity Hall Chambers
URL:https://cityofardmoretn.com/events2/city-of-ardmore-board-meeting-3/2028-11-02/
END:VEVENT
BEGIN:VEVENT
DTSTART;TZID=America/New_York:20281207T183000
DTEND;TZID=America/New_York:20281207T200000
DTSTAMP:20260422T182113
CREATED:20250109T190302Z
LAST-MODIFIED:20250109T190618Z
UID:10000400-1859826600-1859832000@cityofardmoretn.com
SUMMARY:City of Ardmore Board Meeting
DESCRIPTION:City of Ardmore Board Meeting \n6:30 pm \nCity Hall Chambers
URL:https://cityofardmoretn.com/events2/city-of-ardmore-board-meeting-3/2028-12-07/
END:VEVENT
BEGIN:VEVENT
DTSTART;TZID=America/New_York:20290104T183000
DTEND;TZID=America/New_York:20290104T200000
DTSTAMP:20260422T182113
CREATED:20250109T190302Z
LAST-MODIFIED:20250109T190618Z
UID:10000401-1862245800-1862251200@cityofardmoretn.com
SUMMARY:City of Ardmore Board Meeting
DESCRIPTION:City of Ardmore Board Meeting \n6:30 pm \nCity Hall Chambers
URL:https://cityofardmoretn.com/events2/city-of-ardmore-board-meeting-3/2029-01-04/
END:VEVENT
BEGIN:VEVENT
DTSTART;TZID=America/New_York:20290201T183000
DTEND;TZID=America/New_York:20290201T200000
DTSTAMP:20260422T182113
CREATED:20250109T190302Z
LAST-MODIFIED:20250109T190618Z
UID:10000402-1864665000-1864670400@cityofardmoretn.com
SUMMARY:City of Ardmore Board Meeting
DESCRIPTION:City of Ardmore Board Meeting \n6:30 pm \nCity Hall Chambers
URL:https://cityofardmoretn.com/events2/city-of-ardmore-board-meeting-3/2029-02-01/
END:VEVENT
BEGIN:VEVENT
DTSTART;TZID=America/New_York:20290301T183000
DTEND;TZID=America/New_York:20290301T200000
DTSTAMP:20260422T182113
CREATED:20250109T190302Z
LAST-MODIFIED:20250109T190618Z
UID:10000403-1867084200-1867089600@cityofardmoretn.com
SUMMARY:City of Ardmore Board Meeting
DESCRIPTION:City of Ardmore Board Meeting \n6:30 pm \nCity Hall Chambers
URL:https://cityofardmoretn.com/events2/city-of-ardmore-board-meeting-3/2029-03-01/
END:VEVENT
BEGIN:VEVENT
DTSTART;TZID=America/New_York:20290405T183000
DTEND;TZID=America/New_York:20290405T200000
DTSTAMP:20260422T182113
CREATED:20250109T190302Z
LAST-MODIFIED:20250109T190618Z
UID:10000404-1870108200-1870113600@cityofardmoretn.com
SUMMARY:City of Ardmore Board Meeting
DESCRIPTION:City of Ardmore Board Meeting \n6:30 pm \nCity Hall Chambers
URL:https://cityofardmoretn.com/events2/city-of-ardmore-board-meeting-3/2029-04-05/
END:VEVENT
BEGIN:VEVENT
DTSTART;TZID=America/New_York:20290503T183000
DTEND;TZID=America/New_York:20290503T200000
DTSTAMP:20260422T182113
CREATED:20250109T190302Z
LAST-MODIFIED:20250109T190618Z
UID:10000405-1872527400-1872532800@cityofardmoretn.com
SUMMARY:City of Ardmore Board Meeting
DESCRIPTION:City of Ardmore Board Meeting \n6:30 pm \nCity Hall Chambers
URL:https://cityofardmoretn.com/events2/city-of-ardmore-board-meeting-3/2029-05-03/
END:VEVENT
BEGIN:VEVENT
DTSTART;TZID=America/New_York:20290607T183000
DTEND;TZID=America/New_York:20290607T200000
DTSTAMP:20260422T182113
CREATED:20250109T190302Z
LAST-MODIFIED:20250109T190618Z
UID:10000406-1875551400-1875556800@cityofardmoretn.com
SUMMARY:City of Ardmore Board Meeting
DESCRIPTION:City of Ardmore Board Meeting \n6:30 pm \nCity Hall Chambers
URL:https://cityofardmoretn.com/events2/city-of-ardmore-board-meeting-3/2029-06-07/
END:VEVENT
BEGIN:VEVENT
DTSTART;TZID=America/New_York:20290705T183000
DTEND;TZID=America/New_York:20290705T200000
DTSTAMP:20260422T182113
CREATED:20250109T190302Z
LAST-MODIFIED:20250109T190618Z
UID:10000407-1877970600-1877976000@cityofardmoretn.com
SUMMARY:City of Ardmore Board Meeting
DESCRIPTION:City of Ardmore Board Meeting \n6:30 pm \nCity Hall Chambers
URL:https://cityofardmoretn.com/events2/city-of-ardmore-board-meeting-3/2029-07-05/
END:VEVENT
BEGIN:VEVENT
DTSTART;TZID=America/New_York:20290802T183000
DTEND;TZID=America/New_York:20290802T200000
DTSTAMP:20260422T182113
CREATED:20250109T190302Z
LAST-MODIFIED:20250109T190618Z
UID:10000408-1880389800-1880395200@cityofardmoretn.com
SUMMARY:City of Ardmore Board Meeting
DESCRIPTION:City of Ardmore Board Meeting \n6:30 pm \nCity Hall Chambers
URL:https://cityofardmoretn.com/events2/city-of-ardmore-board-meeting-3/2029-08-02/
END:VEVENT
BEGIN:VEVENT
DTSTART;TZID=America/New_York:20290906T183000
DTEND;TZID=America/New_York:20290906T200000
DTSTAMP:20260422T182113
CREATED:20250109T190302Z
LAST-MODIFIED:20250109T190618Z
UID:10000409-1883413800-1883419200@cityofardmoretn.com
SUMMARY:City of Ardmore Board Meeting
DESCRIPTION:City of Ardmore Board Meeting \n6:30 pm \nCity Hall Chambers
URL:https://cityofardmoretn.com/events2/city-of-ardmore-board-meeting-3/2029-09-06/
END:VEVENT
BEGIN:VEVENT
DTSTART;TZID=America/New_York:20291004T183000
DTEND;TZID=America/New_York:20291004T200000
DTSTAMP:20260422T182113
CREATED:20250109T190302Z
LAST-MODIFIED:20250109T190618Z
UID:10000410-1885833000-1885838400@cityofardmoretn.com
SUMMARY:City of Ardmore Board Meeting
DESCRIPTION:City of Ardmore Board Meeting \n6:30 pm \nCity Hall Chambers
URL:https://cityofardmoretn.com/events2/city-of-ardmore-board-meeting-3/2029-10-04/
END:VEVENT
BEGIN:VEVENT
DTSTART;TZID=America/New_York:20291101T183000
DTEND;TZID=America/New_York:20291101T200000
DTSTAMP:20260422T182113
CREATED:20250109T190302Z
LAST-MODIFIED:20250109T190618Z
UID:10000411-1888252200-1888257600@cityofardmoretn.com
SUMMARY:City of Ardmore Board Meeting
DESCRIPTION:City of Ardmore Board Meeting \n6:30 pm \nCity Hall Chambers
URL:https://cityofardmoretn.com/events2/city-of-ardmore-board-meeting-3/2029-11-01/
END:VEVENT
BEGIN:VEVENT
DTSTART;TZID=America/New_York:20291206T183000
DTEND;TZID=America/New_York:20291206T200000
DTSTAMP:20260422T182113
CREATED:20250109T190302Z
LAST-MODIFIED:20250109T190618Z
UID:10000412-1891276200-1891281600@cityofardmoretn.com
SUMMARY:City of Ardmore Board Meeting
DESCRIPTION:City of Ardmore Board Meeting \n6:30 pm \nCity Hall Chambers
URL:https://cityofardmoretn.com/events2/city-of-ardmore-board-meeting-3/2029-12-06/
END:VEVENT
BEGIN:VEVENT
DTSTART;TZID=America/New_York:20300103T183000
DTEND;TZID=America/New_York:20300103T200000
DTSTAMP:20260422T182113
CREATED:20250109T190302Z
LAST-MODIFIED:20250109T190618Z
UID:10000413-1893695400-1893700800@cityofardmoretn.com
SUMMARY:City of Ardmore Board Meeting
DESCRIPTION:City of Ardmore Board Meeting \n6:30 pm \nCity Hall Chambers
URL:https://cityofardmoretn.com/events2/city-of-ardmore-board-meeting-3/2030-01-03/
END:VEVENT
END:VCALENDAR