BEGIN:VCALENDAR
VERSION:2.0
PRODID:-//City of Ardmore - ECPv6.15.20//NONSGML v1.0//EN
CALSCALE:GREGORIAN
METHOD:PUBLISH
X-WR-CALNAME:City of Ardmore
X-ORIGINAL-URL:https://cityofardmoretn.com
X-WR-CALDESC:Events for City of Ardmore
REFRESH-INTERVAL;VALUE=DURATION:PT1H
X-Robots-Tag:noindex
X-PUBLISHED-TTL:PT1H
BEGIN:VTIMEZONE
TZID:America/New_York
BEGIN:DAYLIGHT
TZOFFSETFROM:-0500
TZOFFSETTO:-0400
TZNAME:EDT
DTSTART:20240310T070000
END:DAYLIGHT
BEGIN:STANDARD
TZOFFSETFROM:-0400
TZOFFSETTO:-0500
TZNAME:EST
DTSTART:20241103T060000
END:STANDARD
BEGIN:DAYLIGHT
TZOFFSETFROM:-0500
TZOFFSETTO:-0400
TZNAME:EDT
DTSTART:20250309T070000
END:DAYLIGHT
BEGIN:STANDARD
TZOFFSETFROM:-0400
TZOFFSETTO:-0500
TZNAME:EST
DTSTART:20251102T060000
END:STANDARD
BEGIN:DAYLIGHT
TZOFFSETFROM:-0500
TZOFFSETTO:-0400
TZNAME:EDT
DTSTART:20260308T070000
END:DAYLIGHT
BEGIN:STANDARD
TZOFFSETFROM:-0400
TZOFFSETTO:-0500
TZNAME:EST
DTSTART:20261101T060000
END:STANDARD
END:VTIMEZONE
BEGIN:VEVENT
DTSTART;TZID=America/New_York:20251204T183000
DTEND;TZID=America/New_York:20251204T200000
DTSTAMP:20260421T214721
CREATED:20250109T190302Z
LAST-MODIFIED:20250109T190618Z
UID:10000364-1764873000-1764878400@cityofardmoretn.com
SUMMARY:City of Ardmore Board Meeting
DESCRIPTION:City of Ardmore Board Meeting \n6:30 pm \nCity Hall Chambers
URL:https://cityofardmoretn.com/events2/city-of-ardmore-board-meeting-3/2025-12-04/
END:VEVENT
BEGIN:VEVENT
DTSTART;TZID=America/New_York:20251113T170000
DTEND;TZID=America/New_York:20251113T170000
DTSTAMP:20260421T214721
CREATED:20250709T180908Z
LAST-MODIFIED:20250709T185256Z
UID:10000479-1763053200-1763053200@cityofardmoretn.com
SUMMARY:City Court of Ardmore TN
DESCRIPTION:City Hall Chambers \nPlease arrive by 5:15 \n 
URL:https://cityofardmoretn.com/events2/city-court-of-ardmore-tn-2-2-3/2025-11-13/
END:VEVENT
BEGIN:VEVENT
DTSTART;TZID=America/New_York:20251108T160000
DTEND;TZID=America/New_York:20251108T200000
DTSTAMP:20260421T214721
CREATED:20250812T172524Z
LAST-MODIFIED:20250812T172543Z
UID:10000499-1762617600-1762632000@cityofardmoretn.com
SUMMARY:Chilli Cookoff and Pie Eating Contest
DESCRIPTION:
URL:https://cityofardmoretn.com/events2/chilli-cookoff-and-pie-eating-contest/
END:VEVENT
BEGIN:VEVENT
DTSTART;TZID=America/New_York:20251106T183000
DTEND;TZID=America/New_York:20251106T200000
DTSTAMP:20260421T214721
CREATED:20250109T190302Z
LAST-MODIFIED:20250109T190618Z
UID:10000363-1762453800-1762459200@cityofardmoretn.com
SUMMARY:City of Ardmore Board Meeting
DESCRIPTION:City of Ardmore Board Meeting \n6:30 pm \nCity Hall Chambers
URL:https://cityofardmoretn.com/events2/city-of-ardmore-board-meeting-3/2025-11-06/
END:VEVENT
BEGIN:VEVENT
DTSTART;TZID=America/New_York:20251025T130000
DTEND;TZID=America/New_York:20251025T180000
DTSTAMP:20260421T214722
CREATED:20250812T171958Z
LAST-MODIFIED:20250812T172135Z
UID:10000498-1761397200-1761415200@cityofardmoretn.com
SUMMARY:Scarecrow Harvest Festival
DESCRIPTION:
URL:https://cityofardmoretn.com/events2/scarecrow-harvest-festival/
END:VEVENT
BEGIN:VEVENT
DTSTART;VALUE=DATE:20251011
DTEND;VALUE=DATE:20251012
DTSTAMP:20260421T214722
CREATED:20250812T171631Z
LAST-MODIFIED:20250812T171823Z
UID:10000497-1760140800-1760227199@cityofardmoretn.com
SUMMARY:Scarecrow Trail Begins
DESCRIPTION:
URL:https://cityofardmoretn.com/events2/scarecrow-trail-begins/
END:VEVENT
BEGIN:VEVENT
DTSTART;TZID=America/New_York:20251009T170000
DTEND;TZID=America/New_York:20251009T170000
DTSTAMP:20260421T214722
CREATED:20250709T180908Z
LAST-MODIFIED:20250709T185256Z
UID:10000478-1760029200-1760029200@cityofardmoretn.com
SUMMARY:City Court of Ardmore TN
DESCRIPTION:City Hall Chambers \nPlease arrive by 5:15 \n 
URL:https://cityofardmoretn.com/events2/city-court-of-ardmore-tn-2-2-3/2025-10-09/
END:VEVENT
BEGIN:VEVENT
DTSTART;VALUE=DATE:20251003
DTEND;VALUE=DATE:20251005
DTSTAMP:20260421T214722
CREATED:20250812T170353Z
LAST-MODIFIED:20250812T170353Z
UID:10000496-1759449600-1759622399@cityofardmoretn.com
SUMMARY:Ardmore Car Show
DESCRIPTION:
URL:https://cityofardmoretn.com/events2/ardmore-car-show-2/
END:VEVENT
BEGIN:VEVENT
DTSTART;TZID=America/New_York:20251002T183000
DTEND;TZID=America/New_York:20251002T200000
DTSTAMP:20260421T214722
CREATED:20250109T190302Z
LAST-MODIFIED:20250109T190618Z
UID:10000362-1759429800-1759435200@cityofardmoretn.com
SUMMARY:City of Ardmore Board Meeting
DESCRIPTION:City of Ardmore Board Meeting \n6:30 pm \nCity Hall Chambers
URL:https://cityofardmoretn.com/events2/city-of-ardmore-board-meeting-3/2025-10-02/
END:VEVENT
BEGIN:VEVENT
DTSTART;TZID=America/New_York:20250925T183000
DTEND;TZID=America/New_York:20250925T200000
DTSTAMP:20260421T214722
CREATED:20250923T155341Z
LAST-MODIFIED:20250923T155341Z
UID:10000501-1758825000-1758830400@cityofardmoretn.com
SUMMARY:Special Called Board Meeting
DESCRIPTION:
URL:https://cityofardmoretn.com/events2/special-called-board-meeting/
END:VEVENT
BEGIN:VEVENT
DTSTART;TZID=America/New_York:20250913T120000
DTEND;TZID=America/New_York:20250913T170000
DTSTAMP:20260421T214722
CREATED:20250812T170159Z
LAST-MODIFIED:20250812T170216Z
UID:10000495-1757764800-1757782800@cityofardmoretn.com
SUMMARY:Food Truck Karaoke Festival
DESCRIPTION:
URL:https://cityofardmoretn.com/events2/food-truck-karaoke-festival/
END:VEVENT
BEGIN:VEVENT
DTSTART;TZID=America/New_York:20250911T170000
DTEND;TZID=America/New_York:20250911T170000
DTSTAMP:20260421T214722
CREATED:20250709T180908Z
LAST-MODIFIED:20250709T185256Z
UID:10000477-1757610000-1757610000@cityofardmoretn.com
SUMMARY:City Court of Ardmore TN
DESCRIPTION:City Hall Chambers \nPlease arrive by 5:15 \n 
URL:https://cityofardmoretn.com/events2/city-court-of-ardmore-tn-2-2-3/2025-09-11/
END:VEVENT
BEGIN:VEVENT
DTSTART;TZID=America/New_York:20250904T183000
DTEND;TZID=America/New_York:20250904T200000
DTSTAMP:20260421T214722
CREATED:20250109T190302Z
LAST-MODIFIED:20250109T190618Z
UID:10000361-1757010600-1757016000@cityofardmoretn.com
SUMMARY:City of Ardmore Board Meeting
DESCRIPTION:City of Ardmore Board Meeting \n6:30 pm \nCity Hall Chambers
URL:https://cityofardmoretn.com/events2/city-of-ardmore-board-meeting-3/2025-09-04/
END:VEVENT
BEGIN:VEVENT
DTSTART;TZID=America/New_York:20250830T100000
DTEND;TZID=America/New_York:20250830T140000
DTSTAMP:20260421T214722
CREATED:20250812T174630Z
LAST-MODIFIED:20250812T182355Z
UID:10000500-1756548000-1756562400@cityofardmoretn.com
SUMMARY:Touch-A-Truck
DESCRIPTION:
URL:https://cityofardmoretn.com/events2/touch-a-truck/
END:VEVENT
BEGIN:VEVENT
DTSTART;TZID=America/New_York:20250816T090000
DTEND;TZID=America/New_York:20250816T150000
DTSTAMP:20260421T214722
CREATED:20250812T165712Z
LAST-MODIFIED:20250812T165722Z
UID:10000494-1755334800-1755356400@cityofardmoretn.com
SUMMARY:Crape Myrtle Festival
DESCRIPTION:
URL:https://cityofardmoretn.com/events2/crape-myrtle-festival/
END:VEVENT
BEGIN:VEVENT
DTSTART;TZID=America/New_York:20250814T170000
DTEND;TZID=America/New_York:20250814T170000
DTSTAMP:20260421T214722
CREATED:20250709T180908Z
LAST-MODIFIED:20250709T185256Z
UID:10000476-1755190800-1755190800@cityofardmoretn.com
SUMMARY:City Court of Ardmore TN
DESCRIPTION:City Hall Chambers \nPlease arrive by 5:15 \n 
URL:https://cityofardmoretn.com/events2/city-court-of-ardmore-tn-2-2-3/2025-08-14/
END:VEVENT
BEGIN:VEVENT
DTSTART;TZID=America/New_York:20250807T183000
DTEND;TZID=America/New_York:20250807T200000
DTSTAMP:20260421T214722
CREATED:20250109T190302Z
LAST-MODIFIED:20250109T190618Z
UID:10000360-1754591400-1754596800@cityofardmoretn.com
SUMMARY:City of Ardmore Board Meeting
DESCRIPTION:City of Ardmore Board Meeting \n6:30 pm \nCity Hall Chambers
URL:https://cityofardmoretn.com/events2/city-of-ardmore-board-meeting-3/2025-08-07/
END:VEVENT
BEGIN:VEVENT
DTSTART;TZID=America/New_York:20250717T170000
DTEND;TZID=America/New_York:20250717T180000
DTSTAMP:20260421T214722
CREATED:20250709T185911Z
LAST-MODIFIED:20250709T185911Z
UID:10000493-1752771600-1752775200@cityofardmoretn.com
SUMMARY:
DESCRIPTION:Ardmore City Court
URL:https://cityofardmoretn.com/events2/9347/
END:VEVENT
BEGIN:VEVENT
DTSTART;TZID=America/New_York:20250710T183000
DTEND;TZID=America/New_York:20250710T200000
DTSTAMP:20260421T214722
CREATED:20250109T190038Z
LAST-MODIFIED:20250109T190745Z
UID:10000020-1752172200-1752177600@cityofardmoretn.com
SUMMARY:City of Ardmore Board Meeting
DESCRIPTION:City of Ardmore Board Meeting \n6:30 pm \nCity Hall Chambers
URL:https://cityofardmoretn.com/events2/city-of-ardmore-board-meeting-2/
END:VEVENT
BEGIN:VEVENT
DTSTART;TZID=America/New_York:20250612T170000
DTEND;TZID=America/New_York:20250612T200000
DTSTAMP:20260421T214722
CREATED:20250307T164903Z
LAST-MODIFIED:20250307T165433Z
UID:10000417-1749747600-1749758400@cityofardmoretn.com
SUMMARY:City Court of Ardmore TN
DESCRIPTION:City Hall Chambers \nPlease arrive by 5:15 \n 
URL:https://cityofardmoretn.com/events2/city-court-of-ardmore-tn-2-2/2025-06-12/
END:VEVENT
BEGIN:VEVENT
DTSTART;TZID=America/New_York:20250605T183000
DTEND;TZID=America/New_York:20250605T200000
DTSTAMP:20260421T214722
CREATED:20250109T190302Z
LAST-MODIFIED:20250109T190618Z
UID:10000359-1749148200-1749153600@cityofardmoretn.com
SUMMARY:City of Ardmore Board Meeting
DESCRIPTION:City of Ardmore Board Meeting \n6:30 pm \nCity Hall Chambers
URL:https://cityofardmoretn.com/events2/city-of-ardmore-board-meeting-3/2025-06-05/
END:VEVENT
BEGIN:VEVENT
DTSTART;TZID=America/New_York:20250517T160000
DTEND;TZID=America/New_York:20250517T190000
DTSTAMP:20260421T214722
CREATED:20250311T183539Z
LAST-MODIFIED:20250311T183539Z
UID:10000475-1747497600-1747508400@cityofardmoretn.com
SUMMARY:School's Out for Summer Bash
DESCRIPTION:
URL:https://cityofardmoretn.com/events2/schools-out-for-summer-bash/
END:VEVENT
BEGIN:VEVENT
DTSTART;TZID=America/New_York:20250508T170000
DTEND;TZID=America/New_York:20250508T200000
DTSTAMP:20260421T214722
CREATED:20250307T164903Z
LAST-MODIFIED:20250307T165433Z
UID:10000416-1746723600-1746734400@cityofardmoretn.com
SUMMARY:City Court of Ardmore TN
DESCRIPTION:City Hall Chambers \nPlease arrive by 5:15 \n 
URL:https://cityofardmoretn.com/events2/city-court-of-ardmore-tn-2-2/2025-05-08/
END:VEVENT
BEGIN:VEVENT
DTSTART;TZID=America/New_York:20250501T183000
DTEND;TZID=America/New_York:20250501T200000
DTSTAMP:20260421T214722
CREATED:20250109T190302Z
LAST-MODIFIED:20250109T190618Z
UID:10000358-1746124200-1746129600@cityofardmoretn.com
SUMMARY:City of Ardmore Board Meeting
DESCRIPTION:City of Ardmore Board Meeting \n6:30 pm \nCity Hall Chambers
URL:https://cityofardmoretn.com/events2/city-of-ardmore-board-meeting-3/2025-05-01/
END:VEVENT
BEGIN:VEVENT
DTSTART;TZID=America/New_York:20250412T100000
DTEND;TZID=America/New_York:20250412T100000
DTSTAMP:20260421T214722
CREATED:20250307T164356Z
LAST-MODIFIED:20250307T165536Z
UID:10000414-1744452000-1744452000@cityofardmoretn.com
SUMMARY:Easter Egg Hunt
DESCRIPTION:
URL:https://cityofardmoretn.com/events2/easter-egg-hunt/
END:VEVENT
BEGIN:VEVENT
DTSTART;TZID=America/New_York:20250410T170000
DTEND;TZID=America/New_York:20250410T200000
DTSTAMP:20260421T214722
CREATED:20250307T164903Z
LAST-MODIFIED:20250307T165433Z
UID:10000415-1744304400-1744315200@cityofardmoretn.com
SUMMARY:City Court of Ardmore TN
DESCRIPTION:City Hall Chambers \nPlease arrive by 5:15 \n 
URL:https://cityofardmoretn.com/events2/city-court-of-ardmore-tn-2-2/2025-04-10/
END:VEVENT
BEGIN:VEVENT
DTSTART;TZID=America/New_York:20250403T183000
DTEND;TZID=America/New_York:20250403T200000
DTSTAMP:20260421T214722
CREATED:20250109T190302Z
LAST-MODIFIED:20250109T190618Z
UID:10000357-1743705000-1743710400@cityofardmoretn.com
SUMMARY:City of Ardmore Board Meeting
DESCRIPTION:City of Ardmore Board Meeting \n6:30 pm \nCity Hall Chambers
URL:https://cityofardmoretn.com/events2/city-of-ardmore-board-meeting-3/2025-04-03/
END:VEVENT
BEGIN:VEVENT
DTSTART;TZID=America/New_York:20250313T170000
DTEND;TZID=America/New_York:20250313T200000
DTSTAMP:20260421T214722
CREATED:20250307T165016Z
LAST-MODIFIED:20250307T165016Z
UID:10000252-1741885200-1741896000@cityofardmoretn.com
SUMMARY:City Court of Ardmore TN
DESCRIPTION:City Hall Chambers \nPlease arrive by 5:15 \n 
URL:https://cityofardmoretn.com/events2/city-court-of-ardmore-tn-2-2-2/
END:VEVENT
BEGIN:VEVENT
DTSTART;TZID=America/New_York:20250306T183000
DTEND;TZID=America/New_York:20250306T200000
DTSTAMP:20260421T214722
CREATED:20250109T190302Z
LAST-MODIFIED:20250109T190618Z
UID:10000356-1741285800-1741291200@cityofardmoretn.com
SUMMARY:City of Ardmore Board Meeting
DESCRIPTION:City of Ardmore Board Meeting \n6:30 pm \nCity Hall Chambers
URL:https://cityofardmoretn.com/events2/city-of-ardmore-board-meeting-3/2025-03-06/
END:VEVENT
BEGIN:VEVENT
DTSTART;TZID=America/New_York:20250220T170000
DTEND;TZID=America/New_York:20250220T200000
DTSTAMP:20260421T214722
CREATED:20250109T190156Z
LAST-MODIFIED:20250109T190157Z
UID:10000251-1740070800-1740081600@cityofardmoretn.com
SUMMARY:City Court of Ardmore TN
DESCRIPTION:City Hall Chambers \nPlease arrive by 5:15 \n 
URL:https://cityofardmoretn.com/events2/city-court-of-ardmore-tn-2/2025-02-20/
END:VEVENT
END:VCALENDAR